BEGIN:VCALENDAR
VERSION:2.0
PRODID:-//eventon.com NONSGML v1.0//EN
CALSCALE:GREGORIAN
METHOD:PUBLISH
BEGIN:VEVENT
UID:69ebc3c49996c
DTSTAMP:20260424T192556Z
DTSTART:20260704
DTEND:20260705
LOCATION:Szeged\,  Erzsébet-ligetből Kékestetőre
SUMMARY:Elevation Hungary
DESCRIPTION:Elevation Hungary\nhttps://bringasport.hu/verseny/elevation-hun
 gary/
URL:https://bringasport.hu/verseny/elevation-hungary/
END:VEVENT
END:VCALENDAR