BEGIN:VCALENDAR
VERSION:2.0
PRODID:-//eventon.com NONSGML v1.0//EN
CALSCALE:GREGORIAN
METHOD:PUBLISH
BEGIN:VEVENT
UID:69ebc36cf2983
DTSTAMP:20260424T192428Z
DTSTART:20261004
DTEND:20261005
LOCATION:Tatabánya - Turul parkoló HCQ5 CJ Tatabánya
SUMMARY:XXXVI. Turul Kupa
DESCRIPTION:XXXVI. Turul Kupa\nhttps://bringasport.hu/verseny/xxxvi-turul-k
 upa/
URL:https://bringasport.hu/verseny/xxxvi-turul-kupa/
END:VEVENT
END:VCALENDAR