BEGIN:VCALENDAR
VERSION:2.0
PRODID:-//eventon.com NONSGML v1.0//EN
CALSCALE:GREGORIAN
METHOD:PUBLISH
BEGIN:VEVENT
UID:69ebc36b0b439
DTSTAMP:20260424T192427Z
DTSTART:20260809
DTEND:20260810
LOCATION:Hosszúhetény - Focipálya 7694 Hosszúhetény\,  Csókakő u. 13\, 
SUMMARY:ZENGŐ GRAND PRIX
DESCRIPTION:ZENGŐ GRAND PRIX\nhttps://bringasport.hu/verseny/zengo-grand-p
 rix-2/
URL:https://bringasport.hu/verseny/zengo-grand-prix-2/
END:VEVENT
END:VCALENDAR