BEGIN:VCALENDAR
VERSION:2.0
PRODID:-//eventon.com NONSGML v1.0//EN
CALSCALE:GREGORIAN
METHOD:PUBLISH
BEGIN:VEVENT
UID:69ebc39835071
DTSTAMP:20260424T192512Z
DTSTART:20260719
DTEND:20260720
LOCATION:Mohács - Deák tér 7700 Mohács\,  Deák tér
SUMMARY:Mohács 500 Granfondo
DESCRIPTION:Mohács 500 Granfondo\nhttps://bringasport.hu/verseny/mohacs-50
 0-granfondo-2/
URL:https://bringasport.hu/verseny/mohacs-500-granfondo-2/
END:VEVENT
END:VCALENDAR