BEGIN:VCALENDAR
VERSION:2.0
PRODID:-//eventon.com NONSGML v1.0//EN
CALSCALE:GREGORIAN
METHOD:PUBLISH
BEGIN:VEVENT
UID:69ebc397321b1
DTSTAMP:20260424T192511Z
DTSTART:20260510
DTEND:20260511
LOCATION:Pécs - Déli Ipari Park Pécs\,  Galamb\,  József u. 1\,  7621
SUMMARY:IPARK KUPA II.
DESCRIPTION:7. Ipark Kupa 2026 Versenykiírás\nhttps://bringasport.hu/vers
 eny/ipark-kupa-orszaguti-verseny/
URL:https://bringasport.hu/verseny/ipark-kupa-orszaguti-verseny/
END:VEVENT
END:VCALENDAR