BEGIN:VCALENDAR
VERSION:2.0
PRODID:-//eventon.com NONSGML v1.0//EN
CALSCALE:GREGORIAN
METHOD:PUBLISH
BEGIN:VEVENT
UID:69ebc39635fef
DTSTAMP:20260424T192510Z
DTSTART:20260628
DTEND:20260629
LOCATION:Pannonhalma - Porta 9090 Pannonhalma\,  Mátyás király utca 3.
SUMMARY:Országúti OB
DESCRIPTION:Országúti OB\nhttps://bringasport.hu/verseny/orszaguti-ob-4/
URL:https://bringasport.hu/verseny/orszaguti-ob-4/
END:VEVENT
END:VCALENDAR