BEGIN:VCALENDAR
VERSION:2.0
PRODID:-//eventon.com NONSGML v1.0//EN
CALSCALE:GREGORIAN
METHOD:PUBLISH
BEGIN:VEVENT
UID:69ebc396aaaaa
DTSTAMP:20260424T192510Z
DTSTART:20260919
DTEND:20260920
LOCATION:Magyarhertelend - Művelődési Ház 7394 Magyarhertelend\,  Kossuth u. 51.
SUMMARY:HEGYI OB
DESCRIPTION:HEGYI OB\nhttps://bringasport.hu/verseny/hegyi-ob-4/
URL:https://bringasport.hu/verseny/hegyi-ob-4/
END:VEVENT
END:VCALENDAR