BEGIN:VCALENDAR
VERSION:2.0
PRODID:-//eventon.com NONSGML v1.0//EN
CALSCALE:GREGORIAN
METHOD:PUBLISH
BEGIN:VEVENT
UID:69ebc36e09b93
DTSTAMP:20260424T192430Z
DTSTART:20260808
DTEND:20260809
LOCATION:Hosszúhetény - Zobákbánya
SUMMARY:MASTERS IDŐFUTAM OB
DESCRIPTION:MASTERS IDŐFUTAM OB\nhttps://bringasport.hu/verseny/masters-id
 ofutam-ob/
URL:https://bringasport.hu/verseny/masters-idofutam-ob/
END:VEVENT
END:VCALENDAR