BEGIN:VCALENDAR
VERSION:2.0
PRODID:-//eventon.com NONSGML v1.0//EN
CALSCALE:GREGORIAN
METHOD:PUBLISH
BEGIN:VEVENT
UID:69ebc398b823f
DTSTAMP:20260424T192512Z
DTSTART:20260516
DTEND:20260517
LOCATION:Pécs Széchenyi tér
SUMMARY:III. Zsolnay Kupa
DESCRIPTION:III. Zsolnay Kupa\nhttps://bringasport.hu/verseny/zsolnay-kupa-
 2/
URL:https://bringasport.hu/verseny/zsolnay-kupa-2/
END:VEVENT
END:VCALENDAR