BEGIN:VCALENDAR
VERSION:2.0
PRODID:-//eventon.com NONSGML v1.0//EN
CALSCALE:GREGORIAN
METHOD:PUBLISH
BEGIN:VEVENT
UID:69ebc3e1ca3c9
DTSTAMP:20260424T192625Z
DTSTART:20260905
DTEND:20260906
LOCATION:Kecskemét - Belváros 6000 Kecskemét\,  Batthyány utca 1.
SUMMARY:Kritérium OB
DESCRIPTION:Kritérium OB\nhttps://bringasport.hu/verseny/kriterium-orszago
 s-bajnoksag-4/
URL:https://bringasport.hu/verseny/kriterium-orszagos-bajnoksag-4/
END:VEVENT
END:VCALENDAR