BEGIN:VCALENDAR
VERSION:2.0
PRODID:-//eventon.com NONSGML v1.0//EN
CALSCALE:GREGORIAN
METHOD:PUBLISH
BEGIN:VEVENT
UID:69ebc3c6a69ac
DTSTAMP:20260424T192558Z
DTSTART:20260726
DTEND:20260727
LOCATION:Vásárosnamény - Bereg Szíve Üdülőközpont 489Q GG Vásárosnamény
SUMMARY:Tour de Vásárosnamény II.
DESCRIPTION:Tour de Vásárosnamény II.\nhttps://bringasport.hu/verseny/to
 ur-de-vasarosnameny-2-2/
URL:https://bringasport.hu/verseny/tour-de-vasarosnameny-2-2/
END:VEVENT
END:VCALENDAR