BEGIN:VCALENDAR
VERSION:2.0
PRODID:-//eventon.com NONSGML v1.0//EN
CALSCALE:GREGORIAN
METHOD:PUBLISH
BEGIN:VEVENT
UID:69ebc3c5c63a8
DTSTAMP:20260424T192557Z
DTSTART:20260725
DTEND:20260726
LOCATION:Vásárosnamény - Atlantika Vizividámpark 4803 Vásárosnamény\,  Gulácsi út 56.
SUMMARY:Tour de Vásárosnamény I.
DESCRIPTION:Tour de Vásárosnamény I.\nhttps://bringasport.hu/verseny/tou
 r-de-vasarosnameny-1/
URL:https://bringasport.hu/verseny/tour-de-vasarosnameny-1/
END:VEVENT
END:VCALENDAR