BEGIN:VCALENDAR
VERSION:2.0
PRODID:-//eventon.com NONSGML v1.0//EN
CALSCALE:GREGORIAN
METHOD:PUBLISH
BEGIN:VEVENT
UID:69ed3ef33cf2f
DTSTAMP:20260425T222347Z
DTSTART:20260307
DTEND:20260308
LOCATION:Gencsapáti - BMX pálya Gencsapáti\,  Posta út 4\,  9721
SUMMARY:BMX Racing Magyar Kupa
DESCRIPTION:BMX Racing Magyar Kupa\nhttps://bringasport.hu/verseny/bmx-raci
 ng-magyar-kupa-1-2-fordulo-2026/
URL:https://bringasport.hu/verseny/bmx-racing-magyar-kupa-1-2-fordulo-2026/
END:VEVENT
END:VCALENDAR