BEGIN:VCALENDAR
VERSION:2.0
PRODID:-//eventon.com NONSGML v1.0//EN
CALSCALE:GREGORIAN
METHOD:PUBLISH
BEGIN:VEVENT
UID:69ebc395012bb
DTSTAMP:20260424T192509Z
DTSTART:20260711
DTEND:20260712
LOCATION:Pannonhalma - Fő tér Mátyás király u. 2 Pannonhalma 9090
SUMMARY:Visegrád 4 Utánpótlás Időfutam
DESCRIPTION:Visegrád 4 Utánpótlás Időfutam\nhttps://bringasport.hu/ver
 seny/visegrad-4-utanpotlas-idofutam/
URL:https://bringasport.hu/verseny/visegrad-4-utanpotlas-idofutam/
END:VEVENT
END:VCALENDAR