BEGIN:VCALENDAR
VERSION:2.0
PRODID:-//eventon.com NONSGML v1.0//EN
CALSCALE:GREGORIAN
METHOD:PUBLISH
BEGIN:VEVENT
UID:69ebc3dfcb8e5
DTSTAMP:20260424T192623Z
DTSTART:20260524
DTEND:20260525
LOCATION:Zirc - Alkotmány utca 8420 Zirc\,  Alkotmány utca
SUMMARY:III.  Zirc GP
DESCRIPTION:III. Zirc GP\nhttps://bringasport.hu/verseny/iii-zirc-gp/
URL:https://bringasport.hu/verseny/iii-zirc-gp/
END:VEVENT
END:VCALENDAR