BEGIN:VCALENDAR
VERSION:2.0
PRODID:-//eventon.com NONSGML v1.0//EN
CALSCALE:GREGORIAN
METHOD:PUBLISH
BEGIN:VEVENT
UID:69ebc3e4dace4
DTSTAMP:20260424T192628Z
DTSTART:20260813
DTEND:20260814
LOCATION:
SUMMARY:Nation's Cup Hungary
DESCRIPTION:Nation's Cup Hungary\nhttps://bringasport.hu/verseny/nations-cu
 p-hungary/
URL:https://bringasport.hu/verseny/nations-cup-hungary/
END:VEVENT
END:VCALENDAR