BEGIN:VCALENDAR
VERSION:2.0
PRODID:-//eventon.com NONSGML v1.0//EN
CALSCALE:GREGORIAN
METHOD:PUBLISH
BEGIN:VEVENT
UID:69ebc3e2cd36f
DTSTAMP:20260424T192626Z
DTSTART:20260510
DTEND:20260511
LOCATION:Kecskemét - Belváros 6000 Kecskemét\,  Batthyány utca 1.
SUMMARY:Hírös időfutam
DESCRIPTION:Hírös TT – Egyéni és Páros Időfutam 2026.05.10. (vasár
 nap)\,  Kecskemét – 54-es út melletti szervíz út I. A rendezvény cé
 lja A rendszeres testedzés és a kerékpározás\,  mint versenysport nép
 szerűsítése\,  valamint a közösségi élmény erősítése. Egyéni é
 s páros csapatok számára lehetőség biztosítása\,  hogy összemérjé
 k erejüket\,  és a sport révén kapcsolatokat építsenek.[..]\nhttps://
 bringasport.hu/verseny/hiros-idofutam/
URL:https://bringasport.hu/verseny/hiros-idofutam/
END:VEVENT
END:VCALENDAR