BEGIN:VCALENDAR
VERSION:2.0
PRODID:-//eventon.com NONSGML v1.0//EN
CALSCALE:GREGORIAN
METHOD:PUBLISH
BEGIN:VEVENT
UID:69ebc36d7d73d
DTSTAMP:20260424T192429Z
DTSTART:20260509
DTEND:20260510
LOCATION:Kajdacs - Focipálya 7051 Kajdacs\,  Sport u.
SUMMARY:VI. Kajdacs Nagydíj
DESCRIPTION:A verseny célja: A kerékpársport népszerűsítése\,  illet
 ve minden korcsoportban versenylehetőség biztosítása igazolt és amatő
 r kerékpárosok részére. A verseny egyben a 2026. évi Amatőr Országú
 ti Magyar Bajnokság futama is A verseny rendezője: Szekszárdi Kerékpár
 os S. E. (7100 Szekszárd\,  Akácfa u. 12.\,  Tel: 06204550817\,  e-mail: 
 szekszardikse@gmail.com) Főszervező: Steigné Dr. Szabó Barbara (Tel.:[.
 .]\nhttps://bringasport.hu/verseny/vi-kajdacs-nagydij-2026/
URL:https://bringasport.hu/verseny/vi-kajdacs-nagydij-2026/
END:VEVENT
END:VCALENDAR