BEGIN:VCALENDAR
VERSION:2.0
PRODID:-//eventon.com NONSGML v1.0//EN
CALSCALE:GREGORIAN
METHOD:PUBLISH
BEGIN:VEVENT
UID:69ebc3e3d55e2
DTSTAMP:20260424T192627Z
DTSTART:20260703
DTEND:20260704
LOCATION:Gyöngyös Giant Gyártó Hungary Kft.\,  Jedlik Ányos utca 1.
SUMMARY:Tour de Mátra
DESCRIPTION:Tour de Mátra\nhttps://bringasport.hu/verseny/tour-de-matra-uc
 i-gran-fondo-world-series/
URL:https://bringasport.hu/verseny/tour-de-matra-uci-gran-fondo-world-series/
END:VEVENT
END:VCALENDAR