BEGIN:VCALENDAR
VERSION:2.0
PRODID:-//eventon.com NONSGML v1.0//EN
CALSCALE:GREGORIAN
METHOD:PUBLISH
BEGIN:VEVENT
UID:69ebc39503ee4
DTSTAMP:20260424T192509Z
DTSTART:20260906
DTEND:20260907
LOCATION:Gyöngyös - Felsővárosi Iskola 3200 Gyöngyös\,  Martinovics Ignác u.2.
SUMMARY:Mátra Kör
DESCRIPTION:Mátra Kör\nhttps://bringasport.hu/verseny/matra-kor-orszaguti
 -kerekpar-verseny/
URL:https://bringasport.hu/verseny/matra-kor-orszaguti-kerekpar-verseny/
END:VEVENT
END:VCALENDAR