BEGIN:VCALENDAR
VERSION:2.0
PRODID:-//eventon.com NONSGML v1.0//EN
CALSCALE:GREGORIAN
METHOD:PUBLISH
BEGIN:VEVENT
UID:69ebc36c7d720
DTSTAMP:20260424T192428Z
DTSTART:20260927
DTEND:20260928
LOCATION:Esztergom - Montágh Iskola Esztergom\,  Dobogókői út 110
SUMMARY:XIX. Pilis kupa II.
DESCRIPTION:XIX. Pilis kupa II.\nhttps://bringasport.hu/verseny/xix-pilis-k
 upa-kerekparos-heif-bajnoksag-ii-fordulo-es-kerekparos-tura/
URL:https://bringasport.hu/verseny/xix-pilis-kupa-kerekparos-heif-bajnoksag-ii-fordulo-es-kerekparos-tura/
END:VEVENT
END:VCALENDAR