BEGIN:VCALENDAR
VERSION:2.0
PRODID:-//eventon.com NONSGML v1.0//EN
CALSCALE:GREGORIAN
METHOD:PUBLISH
BEGIN:VEVENT
UID:69ebc36c1b638
DTSTAMP:20260424T192428Z
DTSTART:20260830
DTEND:20260831
LOCATION:Esztergom - Technika háza Esztergom\,  Imaház út 2 A
SUMMARY:XIX. Pilis Kupa I.
DESCRIPTION:XIX. Pilis Kupa I.\nhttps://bringasport.hu/verseny/xix-pilis-ku
 pa-kerekparos-heif-sorozat-i-fordulo-es-kerekparos-tura/
URL:https://bringasport.hu/verseny/xix-pilis-kupa-kerekparos-heif-sorozat-i-fordulo-es-kerekparos-tura/
END:VEVENT
END:VCALENDAR