BEGIN:VCALENDAR
VERSION:2.0
PRODID:-//eventon.com NONSGML v1.0//EN
CALSCALE:GREGORIAN
METHOD:PUBLISH
BEGIN:VEVENT
UID:69ebc3c4999c9
DTSTAMP:20260424T192556Z
DTSTART:20260426
DTEND:20260427
LOCATION:Esztergom - Bazilika 2500 Esztergom\,  Szent IstvÃ¡n tÃ©r 1.
SUMMARY:XXII. KÃ­nok KÃ­nja
DESCRIPTION:22.alkalommal kerÃ¼l megrendezÃ©sre Esztergomban a kÃ¶zÃ©ptÃ¡vÃ
 º\,  de annÃ¡l nehezebb szinttel rendelkezÅ‘ kerÃ©kpÃ¡ros orszÃ¡gÃºti mezÅ‘
 nyverseny. A verseny vegyes tereppel 3 kÃ¶rben sÃ­k tereptÅ‘l a meredek eme
 lkedÅ‘ig\,  a lejtÅ‘n valÃ³ lefele szÃ¡guldÃ¡sig\,  Ã©s a pihentetÅ‘bb sÃ­k
  terÃ¼let vÃ¡rja az indulÃ³kat. A verseny helye:Â Â Â Â Â Â Â Â Â Â  Eszter
 gom\,  Bazilika (GPS: 47.799715\,  18.738274) Ideje:Â Â Â Â Â Â Â Â Â Â Â Â
  Â Â Â Â Â Â Â Â Â Â Â Â Â Â  2026.04.26 10:00 (VasÃ¡rnap)[..]\nhttps://bri
 ngasport.hu/verseny/xxii-kinok-kinja-nemzetkozi-kerekparverseny-es-tura/
URL:https://bringasport.hu/verseny/xxii-kinok-kinja-nemzetkozi-kerekparverseny-es-tura/
END:VEVENT
END:VCALENDAR