BEGIN:VCALENDAR
VERSION:2.0
PRODID:-//eventon.com NONSGML v1.0//EN
CALSCALE:GREGORIAN
METHOD:PUBLISH
BEGIN:VEVENT
UID:69ebc3e0db589
DTSTAMP:20260424T192624Z
DTSTART:20260501
DTEND:20260502
LOCATION:Balatonfüred - Vitorlás tér 8230 Balatonfüred\,  Vitorlás tér
SUMMARY:KÉSZ Group Balatonfondo
DESCRIPTION:KÉSZ Group Balatonfondo\nhttps://bringasport.hu/verseny/kesz-g
 roup-balatonfondo-2/
URL:https://bringasport.hu/verseny/kesz-group-balatonfondo-2/
END:VEVENT
END:VCALENDAR