BEGIN:VCALENDAR
VERSION:2.0
PRODID:-//eventon.com NONSGML v1.0//EN
CALSCALE:GREGORIAN
METHOD:PUBLISH
BEGIN:VEVENT
UID:69ebc397b909a
DTSTAMP:20260424T192511Z
DTSTART:20260513
DTEND:20260514
LOCATION:Magyarország
SUMMARY:47. Tour de Hongrie
DESCRIPTION:47. Tour de Hongrie\nhttps://bringasport.hu/verseny/47-tour-de-
 hongrie/
URL:https://bringasport.hu/verseny/47-tour-de-hongrie/
END:VEVENT
END:VCALENDAR