BEGIN:VCALENDAR
VERSION:2.0
PRODID:-//eventon.com NONSGML v1.0//EN
CALSCALE:GREGORIAN
METHOD:PUBLISH
BEGIN:VEVENT
UID:69ec216539e2c
DTSTAMP:20260425T020525Z
DTSTART:20251123
DTEND:20251124
LOCATION:Nyíregyháza - Robinson domb 4400 Nyíregyháza\,  Május 1. tér
SUMMARY:NYKSE Robinson Cyclo-Cross Magyar Kupa
DESCRIPTION:Verseny védnöke: Nagy Szabina\,  Nyíregyháza-Jósaváros ö
 nkormányzati képviselő Verseny Rendezője: Nyírségi Kerékpárosok Spo
 rtegyesülete Verseny célja: A Magyarország felnőtt\,  utánpótlás és
  master korú versenyzők részére kiírt egynapos egyéni CX Magyar Kupa 
 fordulókon pontok szerzése\,  illetve a kerékpárosok számára versenyz
 ési lehetőség biztosítása. Verseny központja: Nyíregyháza Ungvár s
 tny 1. Robinson domb. GPS: 47.971944\,  21.723016[..]\nhttps://bringasport.
 hu/verseny/nykse-robinson-cross-mk-futam/
URL:https://bringasport.hu/verseny/nykse-robinson-cross-mk-futam/
END:VEVENT
END:VCALENDAR