BEGIN:VCALENDAR
VERSION:2.0
PRODID:-//eventon.com NONSGML v1.0//EN
CALSCALE:GREGORIAN
METHOD:PUBLISH
BEGIN:VEVENT
UID:69ebc3de8ab02
DTSTAMP:20260424T192622Z
DTSTART:20260530
DTEND:20260531
LOCATION:Siófok - Újhelyi Strand 8600 Siófok\,  Szigliget u. 2.
SUMMARY:Tour de Balaton
DESCRIPTION:Tour de Balaton\nhttps://bringasport.hu/verseny/tour-de-balaton
 -3/
URL:https://bringasport.hu/verseny/tour-de-balaton-3/
END:VEVENT
END:VCALENDAR