BEGIN:VCALENDAR
VERSION:2.0
PRODID:-//eventon.com NONSGML v1.0//EN
CALSCALE:GREGORIAN
METHOD:PUBLISH
BEGIN:VEVENT
UID:69ebf052c750f
DTSTAMP:20260424T223602Z
DTSTART:20251004
DTEND:20251005
LOCATION:HÃ©vÃ­z - DeÃ¡k tÃ©r 8380 HÃ©vÃ­z\,  DeÃ¡k tÃ©r
SUMMARY:Bianchi HÃ©vÃ­z Gravel OB
DESCRIPTION:Verseny neve Bianchi HÃ©vÃ­z Gravel OrszÃ¡gos BajnoksÃ¡g Ã©s TÃ
 ºra Verseny besorolÃ¡sa MKSZ OB &#8211; Gravel szakÃ¡g TÃºra: szabadidÅ‘s r
 endezvÃ©ny Verseny dÃ¡tuma 2025.10.04. VersenykÃ¶zpont helye HÃ©vÃ­z\,  DeÃ
 ¡k TÃ©r Verseny kategÃ³riÃ¡i U19 fÃ©rfiâ€“nÅ‘: 1 kÃ¶r â€“ 74 km FelnÅ‘ttâ€“
 master fÃ©rfi: 3 kÃ¶r â€“ 130 km FelnÅ‘ttâ€“master nÅ‘: 2 kÃ¶r â€“ 102 km[.
 .]\nhttps://bringasport.hu/verseny/bianchi-gravel-orszagos-bajnoksag-heviz/
URL:https://bringasport.hu/verseny/bianchi-gravel-orszagos-bajnoksag-heviz/
END:VEVENT
END:VCALENDAR