BEGIN:VCALENDAR
VERSION:2.0
PRODID:-//eventon.com NONSGML v1.0//EN
CALSCALE:GREGORIAN
METHOD:PUBLISH
BEGIN:VEVENT
UID:69ec3d5da459e
DTSTAMP:20260425T040445Z
DTSTART:20251011
DTEND:20251012
LOCATION:Budapest - Kőbányai BringAréna 1103 Budapest\,  Hangár u. 10.
SUMMARY:III. Budapest GP
DESCRIPTION:NEVEZÉSI LAP &#8211; ENTRY FORM: Entry form III.Budapest GP tr
 ack cycling_2025.10.11-12.xlsx\nhttps://bringasport.hu/verseny/kobanyai-bri
 ngarena-kupa-iii-2/
URL:https://bringasport.hu/verseny/kobanyai-bringarena-kupa-iii-2/
END:VEVENT
END:VCALENDAR