BEGIN:VCALENDAR
VERSION:2.0
PRODID:-//eventon.com NONSGML v1.0//EN
CALSCALE:GREGORIAN
METHOD:PUBLISH
BEGIN:VEVENT
UID:69ec21840cab9
DTSTAMP:20260425T020556Z
DTSTART:20250902
DTEND:20250903
LOCATION:Budapest - Kőbányai BringAréna 1103 Budapest\,  Hangár u. 10.
SUMMARY:Pálya OB
DESCRIPTION:NEVEZÉSI LAP &#8211; ENTRY FORM: Entry form Kobanyai Bringaren
 a cup 1. track cycling.xlsx Entry form _ OPEN NATIONAL CHAMPIONSHIPS track 
 cycling.xlsx\nhttps://bringasport.hu/verseny/palya-ob-2/
URL:https://bringasport.hu/verseny/palya-ob-2/
END:VEVENT
END:VCALENDAR