BEGIN:VCALENDAR
VERSION:2.0
PRODID:-//eventon.com NONSGML v1.0//EN
CALSCALE:GREGORIAN
METHOD:PUBLISH
BEGIN:VEVENT
UID:69ec3d5e69c22
DTSTAMP:20260425T040446Z
DTSTART:20250926
DTEND:20250927
LOCATION:Budapest - Kőbányai BringAréna 1103 Budapest\,  Hangár u. 10.
SUMMARY:Junior Open Hungary
DESCRIPTION:NEVEZÉSI LAP &#8211; ENTRY FORM: Entry form JUNIOR OPEN HUNGAR
 Y track cycling_2025.09.26-28.xlsx\nhttps://bringasport.hu/verseny/junior-o
 pen-hungary/
URL:https://bringasport.hu/verseny/junior-open-hungary/
END:VEVENT
END:VCALENDAR