BEGIN:VCALENDAR
VERSION:2.0
PRODID:-//eventon.com NONSGML v1.0//EN
CALSCALE:GREGORIAN
METHOD:PUBLISH
BEGIN:VEVENT
UID:69ec2183530ee
DTSTAMP:20260425T020555Z
DTSTART:20250903
DTEND:20250904
LOCATION:Budapest - Kőbányai BringAréna 1103 Budapest\,  Hangár u. 10.
SUMMARY:Budapest Track Cup
DESCRIPTION:NEVEZÉSI LAP &#8211; ENTRY FORM: Entry form Kobanyai Bringaren
 a cup 1. track cycling.xlsx\nhttps://bringasport.hu/verseny/budapest-track-
 cup/
URL:https://bringasport.hu/verseny/budapest-track-cup/
END:VEVENT
END:VCALENDAR