BEGIN:VCALENDAR
VERSION:2.0
PRODID:-//eventon.com NONSGML v1.0//EN
CALSCALE:GREGORIAN
METHOD:PUBLISH
BEGIN:VEVENT
UID:69ec215eb7e53
DTSTAMP:20260425T020518Z
DTSTART:20250911
DTEND:20250912
LOCATION:Budapest - Kőbányai BringAréna 1103 Budapest\,  Hangár u. 10.
SUMMARY:Kőbánya Bringa Kupa
DESCRIPTION:NEVEZÉS Entry form edzőversenyek 2025 ősz.xlsx PROGRAM 16:00
  BEMELEGÍTÉS 17:00 Tempó MU13-WU15 2 km 10 kör 5 perc 17:05 Tempó MU15
 -WU17 3 km 15 kör 6 perc 17:15 Tempó U17-WU19 5 km 25 kör 10 perc 17:25 
 Tempó U19-WE 5 km 25 kör 10 perc 17:35 Tempó ME 7\, 5 km[..]\nhttps://br
 ingasport.hu/verseny/kobanyai-bringarena-kupa-ii/
URL:https://bringasport.hu/verseny/kobanyai-bringarena-kupa-ii/
END:VEVENT
END:VCALENDAR