BEGIN:VCALENDAR
VERSION:2.0
PRODID:-//eventon.com NONSGML v1.0//EN
CALSCALE:GREGORIAN
METHOD:PUBLISH
BEGIN:VEVENT
UID:69ec3d5e994eb
DTSTAMP:20260425T040446Z
DTSTART:20250403
DTEND:20250404
LOCATION:Budapest - Kőbányai BringAréna 1103 Budapest\,  Hangár u. 10.
SUMMARY:BringAréna UP edzőverseny
DESCRIPTION:SZERVEZŐ Magyar Kerékpáros Szövetség – Pálya szakág In
 formációk: szabolcsi.szilvia@bringasport.hu KOROSZTÁLYOK U9: 2017-ben é
 s 2018-ban születettek U11: 2015-ben és 2016-ban születettek U13: 2013-b
 an és 2014-ben születettek U15: 2011-ben és 2012-ben születettek U17: 2
 009-ben és 2010-ben születettek U19: 2007-ben és 2008-ban születettek P
 ROGRAM ÉS LEBONYOLÍTÁS Az edzőversenyek során az U9\,  WU9\,  U11\, [.
 .]\nhttps://bringasport.hu/verseny/bringarena-up-edzoverseny/
URL:https://bringasport.hu/verseny/bringarena-up-edzoverseny/
END:VEVENT
END:VCALENDAR