BEGIN:VCALENDAR
VERSION:2.0
PRODID:-//eventon.com NONSGML v1.0//EN
CALSCALE:GREGORIAN
METHOD:PUBLISH
BEGIN:VEVENT
UID:69ebf054cd0fa
DTSTAMP:20260424T223604Z
DTSTART:20250816
DTEND:20250817
LOCATION:Szentgotthárd- Barokk Kert 9970 Szentgotthárd\,  Széll Kálmán tér 9.
SUMMARY:Bianchi Őrség Gravel
DESCRIPTION:Bianchi Őrség Gravel\nhttps://bringasport.hu/verseny/bianchi-
 orseg-gravel-magyar-kupa/
URL:https://bringasport.hu/verseny/bianchi-orseg-gravel-magyar-kupa/
END:VEVENT
END:VCALENDAR