BEGIN:VCALENDAR
VERSION:2.0
PRODID:-//eventon.com NONSGML v1.0//EN
CALSCALE:GREGORIAN
METHOD:PUBLISH
BEGIN:VEVENT
UID:69ec21667fe4a
DTSTAMP:20260425T020526Z
DTSTART:20250726
DTEND:20250727
LOCATION:Bakonyszűcs - Huszárokelőpusza 8564\,  Ugod\,  Huszárokelőpuszta
SUMMARY:Bianchi Bakony Gravel
DESCRIPTION:Bianchi Bakony Gravel\nhttps://bringasport.hu/verseny/bianchi-b
 akony-gravel-magyar-kupa/
URL:https://bringasport.hu/verseny/bianchi-bakony-gravel-magyar-kupa/
END:VEVENT
END:VCALENDAR