BEGIN:VCALENDAR
VERSION:2.0
PRODID:-//eventon.com NONSGML v1.0//EN
CALSCALE:GREGORIAN
METHOD:PUBLISH
BEGIN:VEVENT
UID:69ebf0554eb31
DTSTAMP:20260424T223605Z
DTSTART:20250503
DTEND:20250504
LOCATION:Etyek - Látogatóközpont 2091 Etyek\,  Ötház u. 2A.
SUMMARY:Bianchi Etyek Gravel
DESCRIPTION:Bianchi Etyek Gravel\nhttps://bringasport.hu/verseny/bianchi-et
 yek-gravel-magyar-kupa/
URL:https://bringasport.hu/verseny/bianchi-etyek-gravel-magyar-kupa/
END:VEVENT
END:VCALENDAR