BEGIN:VCALENDAR
VERSION:2.0
PRODID:-//eventon.com NONSGML v1.0//EN
CALSCALE:GREGORIAN
METHOD:PUBLISH
BEGIN:VEVENT
UID:69ec2185012e9
DTSTAMP:20260425T020557Z
DTSTART:20240721
DTEND:20240722
LOCATION:Csákánydoroszló - Vízi Vándor Természetvédelmi Látogatóközpont 9919 Csákánydoroszló
SUMMARY:Bianchi Őrség Gravel
DESCRIPTION:Bianchi Őrség Gravel\nhttps://bringasport.hu/verseny/bianchi-
 orseg-gravel-magyar-gravel-kupa-sorozat-v/
URL:https://bringasport.hu/verseny/bianchi-orseg-gravel-magyar-gravel-kupa-sorozat-v/
END:VEVENT
END:VCALENDAR