BEGIN:VCALENDAR
VERSION:2.0
PRODID:-//eventon.com NONSGML v1.0//EN
CALSCALE:GREGORIAN
METHOD:PUBLISH
BEGIN:VEVENT
UID:69ebf0565eeb9
DTSTAMP:20260424T223606Z
DTSTART:20240504
DTEND:20240505
LOCATION:Gyenesdiás - Festetics Imre Élményközpont 8315 Gyenesdiás\,  Dornyai Béla út
SUMMARY:Bianchi Gyenesdiás Gravel
DESCRIPTION:Bianchi Gyenesdiás Gravel\nhttps://bringasport.hu/verseny/bian
 chi-gyenesdias-gravel-magyar-gravel-kupa-sorozat-ii/
URL:https://bringasport.hu/verseny/bianchi-gyenesdias-gravel-magyar-gravel-kupa-sorozat-ii/
END:VEVENT
END:VCALENDAR