BEGIN:VCALENDAR
VERSION:2.0
PRODID:-//eventon.com NONSGML v1.0//EN
CALSCALE:GREGORIAN
METHOD:PUBLISH
BEGIN:VEVENT
UID:69ec215ee0672
DTSTAMP:20260425T020518Z
DTSTART:20240915
DTEND:20240916
LOCATION:Etyek - Látogatóközpont 2091 Etyek\,  Ötház u. 2A.
SUMMARY:Bianchi Gravel Országos Bajnokság
DESCRIPTION:NEVEZÉSI LINK\nhttps://bringasport.hu/verseny/bianchi-magyar-g
 ravel-orszagos-bajnoksag-balaton-felvidek/
URL:https://bringasport.hu/verseny/bianchi-magyar-gravel-orszagos-bajnoksag-balaton-felvidek/
END:VEVENT
END:VCALENDAR