BEGIN:VCALENDAR
VERSION:2.0
PRODID:-//eventon.com NONSGML v1.0//EN
CALSCALE:GREGORIAN
METHOD:PUBLISH
BEGIN:VEVENT
UID:69ec215eab21f
DTSTAMP:20260425T020518Z
DTSTART:20240922
DTEND:20240923
LOCATION:Tarcal - Bányató
SUMMARY:DEBEXSHOP SERIES 2024 – Tarcal
DESCRIPTION:For English description\,  please\,  scroll down! KATEGÓRIÁK:
  UCI kategóriák: Poussin (2014-2015 születésűek) &#8211; Fehér Benjam
 in (2012-2013 születésűek) &#8211; Kék Minime (2010-2011 születésűek
 ) &#8211; Zöld Cadet (2008-2009 születésűek) &#8211; Fekete Junior (200
 6-2008 születésűek) &#8211; Piros Elite (2005\,  vagy korábbi születé
 sűek) &#8211; Sárga Nem UCI kategóriák: Open &#8211; Lila Poussin + (20
 13\, [..]\nhttps://bringasport.hu/verseny/debexshop-series-2024-tarcal/
URL:https://bringasport.hu/verseny/debexshop-series-2024-tarcal/
END:VEVENT
END:VCALENDAR