BEGIN:VCALENDAR
VERSION:2.0
PRODID:-//eventon.com NONSGML v1.0//EN
CALSCALE:GREGORIAN
METHOD:PUBLISH
BEGIN:VEVENT
UID:69ec2168394e4
DTSTAMP:20260425T020528Z
DTSTART:20240827
DTEND:20240828
LOCATION:Csolnok - Street Riders 2521 Csolnok\,  Mély út
SUMMARY:DEBEXSHOP SERIES 2024 – Csolnok
DESCRIPTION:For English description\,  please\,  scroll down! KATEGÓRIÁK:
  UCI kategóriák: Poussin (2014-2015 születésűek) &#8211; Fehér Benjam
 in (2012-2013 születésűek) &#8211; Kék Minime (2010-2011 születésűek
 ) &#8211; Zöld Cadet (2008-2009 születésűek) &#8211; Fekete Junior (200
 6-2008 születésűek) &#8211; Piros Elite (2005\,  vagy korábbi születé
 sűek) &#8211; Sárga Nem UCI kategóriák: Open &#8211; Lila Poussin + (20
 13\, [..]\nhttps://bringasport.hu/verseny/debexshop-series-2024-csolnok/
URL:https://bringasport.hu/verseny/debexshop-series-2024-csolnok/
END:VEVENT
END:VCALENDAR