BEGIN:VCALENDAR
VERSION:2.0
PRODID:-//eventon.com NONSGML v1.0//EN
CALSCALE:GREGORIAN
METHOD:PUBLISH
BEGIN:VEVENT
UID:69ec0a73eef93
DTSTAMP:20260425T002731Z
DTSTART:20240707
DTEND:20240708
LOCATION:Hódmezővásárhely - AKE BMX Centrum Halesz sor
SUMMARY:BMX Racing Országos Bajnokság
DESCRIPTION:Rendező: Magyar Kerékpáros Szövetség (MKSZ) és  az Alfö
 ldi Kerekesek Egyesülete (AKE) Hódmezővásárhely Időpont: 2024.07.06-0
 7 Verseny helyszíne: AKE BMX CENTRUM 6800\,  Hódmezővásárhely\,  Hales
 z sor Időpont: 2024.07.06. Magyar Kupa 3.forduló\,   2024.07.07. Ország
 os bajnokság 2024 Kategóriák: női\,  férfi   U7\,  U9\,  U11\,  U13\
 ,  U15\,  U17\,  U19\,  19+\,  30+(Master)\,   Cruiser 29 éves korig\,  C
 ruiser 30+[..]\nhttps://bringasport.hu/verseny/bmx-racing-orszagos-bajnoksa
 g-3/
URL:https://bringasport.hu/verseny/bmx-racing-orszagos-bajnoksag-3/
END:VEVENT
END:VCALENDAR