BEGIN:VCALENDAR
VERSION:2.0
PRODID:-//eventon.com NONSGML v1.0//EN
CALSCALE:GREGORIAN
METHOD:PUBLISH
BEGIN:VEVENT
UID:69ebda3a2cc57
DTSTAMP:20260424T210146Z
DTSTART:20230501
DTEND:20230502
LOCATION:Balatonfüred - Annagora Aquapark 8230 Balatonfüred\,  Fürdő u. 35/A.
SUMMARY:BalatonFondo
DESCRIPTION:A Balatonfondo elnevezésű kerékpáros maraton a Giro d’Ita
 lia magyarországi Nagy Rajtjának állít emléket. A résztvevők a 2022-
 es Olasz Körverseny második szakaszának útvonalából ismert részeken 
 tekerhetnek\,  mindezt hazánkban egyedülálló módon\,  teljes útlezár
 ás mellett (részletek a szabályzatban)! Az 1.BalatonFondo országúti ma
 ratonon 2023. május 1-én\,  09’00kor\,  Balatonfüredről indulva\,  ki
 s forgalmú utakon kalandozunk a[..]\nhttps://bringasport.hu/verseny/balato
 nfondo/
URL:https://bringasport.hu/verseny/balatonfondo/
END:VEVENT
END:VCALENDAR