BEGIN:VCALENDAR
VERSION:2.0
PRODID:-//eventon.com NONSGML v1.0//EN
CALSCALE:GREGORIAN
METHOD:PUBLISH
BEGIN:VEVENT
UID:69ec080ebdbc3
DTSTAMP:20260425T001718Z
DTSTART:20220716
DTEND:20220717
LOCATION:Mogyoród - Hungaroring 2146 Mogyoród\,  Hungaroring utca 10.
SUMMARY:PARAKEREKPÁR ORSZÁGOS BAJNOKSÁG
DESCRIPTION:Időpont: 2022. július 16. szombat 9:30 Versenyközpont: Mogyo
 ród\,  Hungaroring – Box utca Rajtszám átvétel: A helyszínen\,  a ve
 rsenyirodában 9:00-tól A verseny fővédnökei: Szabó László: A Magyar
  Paralimpiai Bizottság Elnöke Princzinger Péter: A Magyar Kerékpáros S
 zövetség elnöke Pályaleírás: Autós Körpálya &#8211; Hungaroring. R
 ajt és cél: Hungaroring rajt terület 1 kör: 4381 m.[..]\nhttps://bring
 asport.hu/verseny/parakerekparos-orszagos-bajnoksag-2/
URL:https://bringasport.hu/verseny/parakerekparos-orszagos-bajnoksag-2/
END:VEVENT
END:VCALENDAR