BEGIN:VCALENDAR
VERSION:2.0
PRODID:-//eventon.com NONSGML v1.0//EN
CALSCALE:GREGORIAN
METHOD:PUBLISH
BEGIN:VEVENT
UID:69ec3a39df53a
DTSTAMP:20260425T035121Z
DTSTART:20220910
DTEND:20220911
LOCATION:Debrecen - Kossuth tér 4026 Debrecen\,  Kossuth tér 1.
SUMMARY:Trial-Sport Magyar Kupa - Debrecen
DESCRIPTION:Trial-Sport Magyar Kupa - Debrecen\nhttps://bringasport.hu/vers
 eny/trial-sport-magyar-kupa-debrecen/
URL:https://bringasport.hu/verseny/trial-sport-magyar-kupa-debrecen/
END:VEVENT
END:VCALENDAR