BEGIN:VCALENDAR
VERSION:2.0
PRODID:-//eventon.com NONSGML v1.0//EN
CALSCALE:GREGORIAN
METHOD:PUBLISH
BEGIN:VEVENT
UID:69ebda3a7ff9f
DTSTAMP:20260424T210146Z
DTSTART:20220506
DTEND:20220507
LOCATION:
SUMMARY:Giro d'Italia Grande Partenza
DESCRIPTION:﻿﻿\nhttps://bringasport.hu/verseny/giro-ditalia-grande-part
 enza/
URL:https://bringasport.hu/verseny/giro-ditalia-grande-partenza/
END:VEVENT
END:VCALENDAR