BEGIN:VCALENDAR
VERSION:2.0
PRODID:-//eventon.com NONSGML v1.0//EN
CALSCALE:GREGORIAN
METHOD:PUBLISH
BEGIN:VEVENT
UID:69ec215ee46c9
DTSTAMP:20260425T020518Z
DTSTART:20210703
DTEND:20210704
LOCATION:Orosháza - Szabadság tér Orosháza\,  Szabadság tér 4-6
SUMMARY:Orosházi Extrém Sportnap és Regionális Trial Kupa 2021
DESCRIPTION:Orosházi Extrém Sportnap és Regionális Trial Kupa 2021\nhtt
 ps://bringasport.hu/verseny/oroshazi-extrem-sportnap-es-regionalis-trial-ku
 pa-2021/
URL:https://bringasport.hu/verseny/oroshazi-extrem-sportnap-es-regionalis-trial-kupa-2021/
END:VEVENT
END:VCALENDAR