BEGIN:VCALENDAR
VERSION:2.0
PRODID:-//eventon.com NONSGML v1.0//EN
CALSCALE:GREGORIAN
METHOD:PUBLISH
BEGIN:VEVENT
UID:69ec21850c3e8
DTSTAMP:20260425T020557Z
DTSTART:20210626
DTEND:20210627
LOCATION:Veszprém - BMX Pálya
SUMMARY:BMX Racing Országos Bajnokság
DESCRIPTION:[adrotate banner=&#8221;9&#8243;] RENDEZŐ:          
                                      
   Magyar Kerékpáros Szövetség\,  Veszprémi Spartacus SE VEZETŐ BÍR
 Ó:                                    
   Borbély Ferenc NEVEZÉS:                       
                           2021. 06. 26. szombat 10
 .00 &#8211; 12.00 Előnevezés: 2021.06. 22. 24.00 óráig\,  helyszíni ne
 vezés dupla díjért lehetséges NEVEZÉSI DÍJ: felnőtt (17+):     
                                       
    5.000.-Ft challenge -6-16\,  30+:                   
             3.500.-Ft Időmérő egység bérlése   [..]\nhttp
 s://bringasport.hu/verseny/bmx-racing-orszagos-bajnoksag/
URL:https://bringasport.hu/verseny/bmx-racing-orszagos-bajnoksag/
END:VEVENT
END:VCALENDAR