BEGIN:VCALENDAR
VERSION:2.0
PRODID:-//eventon.com NONSGML v1.0//EN
CALSCALE:GREGORIAN
METHOD:PUBLISH
BEGIN:VEVENT
UID:69ec216574686
DTSTAMP:20260425T020525Z
DTSTART:20210627
DTEND:20210628
LOCATION:Tarcal - Bányató
SUMMARY:Tarcal Trial-Sport Országos Bajnokság
DESCRIPTION:[adrotate banner=&#8221;9&#8243;]\nhttps://bringasport.hu/verse
 ny/trial-ob/
URL:https://bringasport.hu/verseny/trial-ob/
END:VEVENT
END:VCALENDAR